BEGIN:VCALENDAR
VERSION:2.0
PRODID:icalendar-ruby
CALSCALE:GREGORIAN
BEGIN:VEVENT
DTSTAMP:20210122T080044Z
UID:5d2445bb-db74-4557-968d-9a97cfa56061
DTSTART;VALUE=DATE:20190925
DESCRIPTION:Property ID# 461266\, Locatoin: Harcourts Paremata Office (not 
 selling prior)\, Time: 1:00PM
SUMMARY:Auction for 
END:VEVENT
END:VCALENDAR
