BEGIN:VCALENDAR
VERSION:2.0
PRODID:icalendar-ruby
CALSCALE:GREGORIAN
BEGIN:VEVENT
DTSTAMP:20210122T075611Z
UID:1a99cf6c-7469-408b-bd6a-136d58723e09
DTSTART;VALUE=DATE:20191003
DESCRIPTION:Property ID# 461270\, Locatoin: Harcourts Paraparaumu (will not
  be sold prior)\, Time: 12:00PM
SUMMARY:Auction for 
END:VEVENT
END:VCALENDAR
