BEGIN:VCALENDAR
VERSION:2.0
PRODID:icalendar-ruby
CALSCALE:GREGORIAN
BEGIN:VEVENT
DTSTAMP:20260424T123103Z
UID:8acf208a-313e-41cf-b2ff-61e275f8af23
DTSTART;VALUE=DATE:20191017
DESCRIPTION:Property ID# 462224\, Locatoin: Harcourts Paraparaumu Auction R
 oom (unless sold prior)\, Time: 12:00PM
SUMMARY:Auction for 
END:VEVENT
END:VCALENDAR
