BEGIN:VCALENDAR
VERSION:2.0
PRODID:icalendar-ruby
CALSCALE:GREGORIAN
BEGIN:VEVENT
DTSTAMP:20210122T075609Z
UID:ead7dde2-ff71-4c5e-bcc1-ef97926e7ea0
DTSTART;VALUE=DATE:20191023
DESCRIPTION:Property ID# 462896\, Locatoin: Paremata Office\, Time: 12:00PM
SUMMARY:Auction for 
END:VEVENT
END:VCALENDAR
