BEGIN:VCALENDAR
VERSION:2.0
PRODID:icalendar-ruby
CALSCALE:GREGORIAN
BEGIN:VEVENT
DTSTAMP:20210122T075649Z
UID:e075b957-a39f-427f-beb4-bdc7b2eab725
DTSTART;VALUE=DATE:20191218
DESCRIPTION:Property ID# 468307\, Locatoin: Harcourts Paremata at 4pm (unle
 ss sold prior)\, Time: 12:00PM
SUMMARY:Auction for 
END:VEVENT
END:VCALENDAR
