BEGIN:VCALENDAR
VERSION:2.0
PRODID:icalendar-ruby
CALSCALE:GREGORIAN
BEGIN:VEVENT
DTSTAMP:20210122T075647Z
UID:a81d5e74-e656-4b70-9629-61dd5460a5e8
DTSTART;VALUE=DATE:20200213
DESCRIPTION:Property ID# 470448\, Locatoin: Harcourts Paremata at 5pm (not 
 selling prior)\, Time: 12:00PM
SUMMARY:Auction for 
END:VEVENT
END:VCALENDAR
