BEGIN:VCALENDAR
VERSION:2.0
PRODID:icalendar-ruby
CALSCALE:GREGORIAN
BEGIN:VEVENT
DTSTAMP:20210122T075643Z
UID:6bed406a-3552-4129-8c02-fb5dd278872f
DTSTART;VALUE=DATE:20200305
DESCRIPTION:Property ID# 474063\, Locatoin: Harcourts Paremata Office - 7 D
 olly Varden Crescent\, Paremata (unless sold prior)\, Time: 5:00PM
SUMMARY:Auction for 
END:VEVENT
END:VCALENDAR
