BEGIN:VCALENDAR
VERSION:2.0
PRODID:icalendar-ruby
CALSCALE:GREGORIAN
BEGIN:VEVENT
DTSTAMP:20210122T075640Z
UID:f5bcb3e8-d937-49f4-9a3c-cc83d8d6f41d
DTSTART;VALUE=DATE:20200316
DESCRIPTION:Property ID# 474335\, Locatoin: Harcourts Paremata at 4pm (not 
 selling prior)\, Time: 4:00PM
SUMMARY:Auction for 
END:VEVENT
END:VCALENDAR
