BEGIN:VCALENDAR
VERSION:2.0
PRODID:icalendar-ruby
CALSCALE:GREGORIAN
BEGIN:VEVENT
DTSTAMP:20210122T075642Z
UID:a017d902-e5be-40ae-9de0-233807238c45
DTSTART;VALUE=DATE:20200325
DESCRIPTION:Property ID# 474337\, Locatoin: Harcourts Paremata Office - 7 D
 olly Varden Crescent\, Paremata (not selling prior)\, Time: 1:00PM
SUMMARY:Auction for 
END:VEVENT
END:VCALENDAR
