BEGIN:VCALENDAR
VERSION:2.0
PRODID:icalendar-ruby
CALSCALE:GREGORIAN
BEGIN:VEVENT
DTSTAMP:20210122T080040Z
UID:2bd32887-5cc6-4e0d-97b4-978ea5a392a9
DTSTART;VALUE=DATE:20200401
DESCRIPTION:Property ID# 475086\, Locatoin: Harcourts Paremata Office (not 
 selling prior)\, Time: 1:00PM
SUMMARY:Auction for 
END:VEVENT
END:VCALENDAR
