BEGIN:VCALENDAR
VERSION:2.0
PRODID:icalendar-ruby
CALSCALE:GREGORIAN
BEGIN:VEVENT
DTSTAMP:20210122T080038Z
UID:b9f55994-509c-45e0-9edb-5731781033f0
DTSTART;VALUE=DATE:20200513
DESCRIPTION:Property ID# 476520\, Locatoin: Harcourts Paremata Office 1.00p
 m (not selling  prior)\, Time: 1:00PM
SUMMARY:Auction for 
END:VEVENT
END:VCALENDAR
