BEGIN:VCALENDAR
VERSION:2.0
PRODID:icalendar-ruby
CALSCALE:GREGORIAN
BEGIN:VEVENT
DTSTAMP:20210122T075639Z
UID:e33c1895-e3a0-488a-80bd-4ed2dab2caf6
DTSTART;VALUE=DATE:20200624
DESCRIPTION:Property ID# 482170\, Locatoin: Harcourts Lower Hutt Office - 5
 16 High Street\, Lower Hutt\, Time: 12:00PM
SUMMARY:Auction for 
END:VEVENT
END:VCALENDAR
