BEGIN:VCALENDAR
VERSION:2.0
PRODID:icalendar-ruby
CALSCALE:GREGORIAN
BEGIN:VEVENT
DTSTAMP:20210122T075606Z
UID:8727f5e4-7d5e-4382-8295-46ede99c07a8
DTSTART;VALUE=DATE:20200629
DESCRIPTION:Property ID# 482175\, Locatoin: Harcourts Paremata @ 12MD \, Ti
 me: 12:00PM
SUMMARY:Auction for 
END:VEVENT
END:VCALENDAR
