BEGIN:VCALENDAR
VERSION:2.0
PRODID:icalendar-ruby
CALSCALE:GREGORIAN
BEGIN:VEVENT
DTSTAMP:20210122T080351Z
UID:fa0672e2-a66a-4c12-9ca1-23758916d80b
DTSTART;VALUE=DATE:20200625
DESCRIPTION:Property ID# 482615\, Locatoin: Clark & Co Realty\, 7 Mana Espl
 anade\, Paremata\, Time: 1:00PM
SUMMARY:Auction for 
END:VEVENT
END:VCALENDAR
