BEGIN:VCALENDAR
VERSION:2.0
PRODID:icalendar-ruby
CALSCALE:GREGORIAN
BEGIN:VEVENT
DTSTAMP:20210122T075602Z
UID:0f2cb909-39ac-4767-932f-de9bafee3faf
DTSTART;VALUE=DATE:20201001
DESCRIPTION:Property ID# 488958\, Locatoin: Harcourts Paremata at 4pm\, Tim
 e: 4:00PM
SUMMARY:Auction for 
END:VEVENT
END:VCALENDAR
