BEGIN:VCALENDAR
VERSION:2.0
PRODID:icalendar-ruby
CALSCALE:GREGORIAN
BEGIN:VEVENT
DTSTAMP:20210122T075600Z
UID:f5b98e0c-8dd9-4f31-a41f-01f3b615de12
DTSTART;VALUE=DATE:20201008
DESCRIPTION:Property ID# 489722\, Locatoin: Harcourts Paremata at 4pm (no s
 ale prior)\, Time: 4:00PM
SUMMARY:Auction for 
END:VEVENT
END:VCALENDAR
