BEGIN:VCALENDAR
VERSION:2.0
PRODID:icalendar-ruby
CALSCALE:GREGORIAN
BEGIN:VEVENT
DTSTAMP:20210122T075631Z
UID:4ab7a0d2-79fa-4a4f-b8af-f45a9e4f6aa4
DTSTART;VALUE=DATE:20201015
DESCRIPTION:Property ID# 490672\, Locatoin: Harcourts Paremata Office - 7 D
 olly Varden Crescent\, Paremata (not selling prior)\, Time: 4:00PM
SUMMARY:Auction for 
END:VEVENT
END:VCALENDAR
