BEGIN:VCALENDAR
VERSION:2.0
PRODID:icalendar-ruby
CALSCALE:GREGORIAN
BEGIN:VEVENT
DTSTAMP:20210122T075559Z
UID:d2871b77-6519-4b0c-b622-e9a9b340b5bd
DTSTART;VALUE=DATE:20201112
DESCRIPTION:Property ID# 492371\, Locatoin: Harcourts Paremata at 1pm\, Tim
 e: 1:00PM
SUMMARY:Auction for 
END:VEVENT
END:VCALENDAR
