BEGIN:VCALENDAR
VERSION:2.0
PRODID:icalendar-ruby
CALSCALE:GREGORIAN
BEGIN:VEVENT
DTSTAMP:20210122T075625Z
UID:acc41539-6170-44ab-857e-b1c992794124
DTSTART;VALUE=DATE:20201105
DESCRIPTION:Property ID# 492709\, Locatoin: Harcourts Paremata at 4pm (not 
 selling prior)\, Time: 12:00PM
SUMMARY:Auction for 
END:VEVENT
END:VCALENDAR
