BEGIN:VCALENDAR
VERSION:2.0
PRODID:icalendar-ruby
CALSCALE:GREGORIAN
BEGIN:VEVENT
DTSTAMP:20210122T080354Z
UID:4c8c9cc5-9292-44d6-ae91-254d808eaf4d
DTSTART;VALUE=DATE:20201126
DESCRIPTION:Property ID# 494726\, Locatoin: Tommys Mana 99 Mana Esplanade P
 aremata \, Time: 1:00PM
SUMMARY:Auction for 
END:VEVENT
END:VCALENDAR
