BEGIN:VCALENDAR
VERSION:2.0
PRODID:icalendar-ruby
CALSCALE:GREGORIAN
BEGIN:VEVENT
DTSTAMP:20210122T075246Z
UID:048ab397-52d9-4560-9254-250acdff1a50
DTSTART;VALUE=DATE:20210203
DESCRIPTION:Property ID# 499291\, Locatoin: Harcourts Paremata Office - 7 D
 olly Varden Crescent\, Paremata (unless sold prior)\, Time: 5:00PM
SUMMARY:Auction for 
END:VEVENT
END:VCALENDAR
