BEGIN:VCALENDAR
VERSION:2.0
PRODID:icalendar-ruby
CALSCALE:GREGORIAN
BEGIN:VEVENT
DTSTAMP:20210122T075243Z
UID:7617a1be-a4c6-4ac3-9cb2-087029416480
DTSTART;TZID=Pacific/Auckland:20210124T140000
DTEND;TZID=Pacific/Auckland:20210124T144500
DESCRIPTION:Property ID# 499291
SUMMARY:Openhome for 
END:VEVENT
END:VCALENDAR
