BEGIN:VCALENDAR
VERSION:2.0
PRODID:icalendar-ruby
CALSCALE:GREGORIAN
BEGIN:VEVENT
DTSTAMP:20260423T104113Z
UID:29b8c855-99d2-42e7-a8e6-c8b360841597
DTSTART;VALUE=DATE:20201029
DESCRIPTION:Property ID# 492879\, Locatoin: Ray White Johnsonville\, 20 Moo
 refield Road\, Time: 1:00PM
SUMMARY:Auction for 
END:VEVENT
END:VCALENDAR
