BEGIN:VCALENDAR
VERSION:2.0
PRODID:icalendar-ruby
CALSCALE:GREGORIAN
BEGIN:VEVENT
DTSTAMP:20260421T021736Z
UID:8259d11d-5ffc-4e4e-8986-899c7b7b09ce
DTSTART;VALUE=DATE:20201125
DESCRIPTION:Property ID# 494084\, Locatoin: Tommys Mana\, 99 Mana Esplanade
 \, Paremata\, Time: 1:00PM
SUMMARY:Auction for 
END:VEVENT
END:VCALENDAR
