BEGIN:VCALENDAR
VERSION:2.0
PRODID:icalendar-ruby
CALSCALE:GREGORIAN
BEGIN:VEVENT
DTSTAMP:20260421T021701Z
UID:16d230a8-e478-4ef2-9673-c51d240bcbac
DTSTART;VALUE=DATE:20201209
DESCRIPTION:Property ID# 494998\, Locatoin: Tommys Mana 99 Mana Esplanade P
 aremata \, Time: 1:00PM
SUMMARY:Auction for 
END:VEVENT
END:VCALENDAR
