BEGIN:VCALENDAR
VERSION:2.0
PRODID:icalendar-ruby
CALSCALE:GREGORIAN
BEGIN:VEVENT
DTSTAMP:20260423T081013Z
UID:f7e3d33d-3f09-419e-91db-5474e34d5d09
DTSTART;VALUE=DATE:20210331
DESCRIPTION:Property ID# 504427\, Locatoin: Tommys Mana\, 99 Mana Esplanade
 \, Paremata\, Time: 1:00PM
SUMMARY:Auction for 
END:VEVENT
END:VCALENDAR
