BEGIN:VCALENDAR
VERSION:2.0
PRODID:icalendar-ruby
CALSCALE:GREGORIAN
BEGIN:VEVENT
DTSTAMP:20260421T022016Z
UID:d4dc511f-ce71-4ca7-be3b-7498232474b9
DTSTART;VALUE=DATE:20211020
DESCRIPTION:Property ID# 518320\, Locatoin: Tommy's Mana 99 Esplanade Parem
 ata \, Time: 1:00PM
SUMMARY:Auction for 
END:VEVENT
END:VCALENDAR
