BEGIN:VCALENDAR
VERSION:2.0
PRODID:icalendar-ruby
CALSCALE:GREGORIAN
BEGIN:VEVENT
DTSTAMP:20260421T021538Z
UID:215c0ea5-1767-491f-9eee-b24cd36e13e1
DTSTART;VALUE=DATE:20211103
DESCRIPTION:Property ID# 519215\, Locatoin: Tommy's Mana\, 99 Mana Esplanad
 e\, Paremata \, Time: 1:00PM
SUMMARY:Auction for 
END:VEVENT
END:VCALENDAR
