BEGIN:VCALENDAR
VERSION:2.0
PRODID:icalendar-ruby
CALSCALE:GREGORIAN
BEGIN:VEVENT
DTSTAMP:20260421T022010Z
UID:3ebe6758-f426-4a8d-93ba-ac2e04a46f8a
DTSTART;VALUE=DATE:20211124
DESCRIPTION:Property ID# 521257\, Locatoin: Tommy's Mana\, 99 Mana Esplanad
 e\, Paremata \, Time: 1:00PM
SUMMARY:Auction for 
END:VEVENT
END:VCALENDAR
