BEGIN:VCALENDAR
VERSION:2.0
PRODID:icalendar-ruby
CALSCALE:GREGORIAN
BEGIN:VEVENT
DTSTAMP:20260421T021538Z
UID:9d50c67f-5fb2-4fef-b92e-df6a68a311ef
DTSTART;VALUE=DATE:20220323
DESCRIPTION:Property ID# 530260\, Locatoin: Tommys Mana 99 Mana Esplanade\,
  Time: 12:00PM
SUMMARY:Auction for 
END:VEVENT
END:VCALENDAR
