BEGIN:VCALENDAR
VERSION:2.0
PRODID:icalendar-ruby
CALSCALE:GREGORIAN
BEGIN:VEVENT
DTSTAMP:20260421T022014Z
UID:ed82ecb4-dd19-4ca8-b7f8-1335c9427362
DTSTART;VALUE=DATE:20220427
DESCRIPTION:Property ID# 533758\, Locatoin: 99 Mana Esplanade\, Paremata\, 
 Time: 12:00PM
SUMMARY:Auction for 
END:VEVENT
END:VCALENDAR
