BEGIN:VCALENDAR
VERSION:2.0
PRODID:icalendar-ruby
CALSCALE:GREGORIAN
BEGIN:VEVENT
DTSTAMP:20260420T123608Z
UID:f1b9dc00-4198-4744-85fc-f2757a13a3e2
DTSTART;VALUE=DATE:20231213
DESCRIPTION:Property ID# 566829\, Time: 4:00PM
SUMMARY:Auction for 
END:VEVENT
END:VCALENDAR
