BEGIN:VCALENDAR
VERSION:2.0
PRODID:icalendar-ruby
CALSCALE:GREGORIAN
BEGIN:VEVENT
DTSTAMP:20260420T155147Z
UID:c593b05f-1092-435f-9faf-90a8dcf232cb
DTSTART;VALUE=DATE:20260513
DESCRIPTION:Property ID# 606195\, Locatoin: Clark & Co Realty\, 7 Mana Espl
 anade Paremata.\, Time: 12:00PM
SUMMARY:Auction for 2/14 Jillett Street
END:VEVENT
END:VCALENDAR
