BEGIN:VCALENDAR
VERSION:2.0
PRODID:icalendar-ruby
CALSCALE:GREGORIAN
BEGIN:VEVENT
DTSTAMP:20260420T155131Z
UID:197527dc-411a-4347-9251-28ce442b5c8c
DTSTART;VALUE=DATE:20260513
DESCRIPTION:Property ID# 606486\, Locatoin: Harcourts Paremata at 1pm \, Ti
 me: 1:00PM
SUMMARY:Auction for 4 Botany Lane\, Whitby
END:VEVENT
END:VCALENDAR
