BEGIN:VCALENDAR
VERSION:2.0
PRODID:icalendar-ruby
CALSCALE:GREGORIAN
BEGIN:VEVENT
DTSTAMP:20260419T124004Z
UID:0c44d6e1-9e89-457c-8c63-b2af53c48c11
DTSTART;TZID=Pacific/Auckland:20260423T171500
DTEND;TZID=Pacific/Auckland:20260423T180000
DESCRIPTION:Property ID# 606199
SUMMARY:Openhome for 7 Ocean Parade\, Pukerua Bay
END:VEVENT
END:VCALENDAR
