BEGIN:VCALENDAR
VERSION:2.0
PRODID:icalendar-ruby
CALSCALE:GREGORIAN
BEGIN:VEVENT
DTSTAMP:20260420T155020Z
UID:15edf7f9-85df-4406-afc4-bb51bcb63587
DTSTART;TZID=Pacific/Auckland:20260422T171500
DTEND;TZID=Pacific/Auckland:20260422T174500
DESCRIPTION:Property ID# 606486
SUMMARY:Openhome for 4 Botany Lane\, Whitby
END:VEVENT
END:VCALENDAR
